BEGIN:VCALENDAR
VERSION:2.0
PRODID:-//pretix//Port39_e.V._-_Ticketshop//
BEGIN:VTIMEZONE
TZID:Europe/Berlin
BEGIN:STANDARD
DTSTART:20001029T040000
RRULE:FREQ=YEARLY;BYDAY=-1SU;BYMONTH=10
TZNAME:CET
TZOFFSETFROM:+0200
TZOFFSETTO:+0100
END:STANDARD
BEGIN:DAYLIGHT
DTSTART:20000326T030000
RRULE:FREQ=YEARLY;BYDAY=-1SU;BYMONTH=3
TZNAME:CEST
TZOFFSETFROM:+0100
TZOFFSETTO:+0200
END:DAYLIGHT
END:VTIMEZONE
BEGIN:VEVENT
UID:pretix-port39-sommerchaos25-05-0@tickets.port39.de
DTSTART;TZID=Europe/Berlin:20250822T140000
DTEND;TZID=Europe/Berlin:20250822T170000
DESCRIPTION:Tickets: https://tickets.port39.de/port39/sommerchaos25-05/\nVe
 ranstalter: Port39 e.V. Stralsund
DTSTAMP:20260421T090251Z
LOCATION:Port39 - Hackerspace Stralsund | Hafenstr. 20\, 18439 Stralsund
SUMMARY:SommerChaos25 - Digitale Logik mit Minecraft
END:VEVENT
END:VCALENDAR
